BEGIN:VCALENDAR
VERSION:2.0
PRODID:-//wp-events-plugin.com//6.6.3//EN
TZID:Europe/Berlin
X-WR-TIMEZONE:Europe/Berlin
BEGIN:VEVENT
UID:537@einfach-diereha.de
DTSTART;TZID=Europe/Berlin:20260603T173000
DTEND;TZID=Europe/Berlin:20260603T210000
DTSTAMP:20260310T071906Z
URL:https://einfach-diereha.de/events/single-party-ausflug/
SUMMARY:Single-Party · Begleiteter Ausflug
DESCRIPTION:Tanzen – zu zweit\, allein\, gemeinsam: Wir begleiten Euch zu
 r Single-Party der Lebenshilfe im Statthaus Böcklerpark und lernen neue L
 eute kennen.
ATTACH;FMTTYPE=image/jpeg:https://einfach-diereha.de/wp-content/uploads/20
 26/03/single-party-3-6-26.jpg
LOCATION:Statthaus Böcklerpark\, Prinzenstraße 1\, 10969 Berlin\, Berlin\
 , 10969\, Deutschland
GEO:52.496654;13.407428
X-APPLE-STRUCTURED-LOCATION;VALUE=URI;X-ADDRESS=Prinzenstraße 1\, 10969 Be
 rlin\, Berlin\, 10969\, Deutschland;X-APPLE-RADIUS=100;X-TITLE=Statthaus B
 öcklerpark:geo:52.496654,13.407428
END:VEVENT
BEGIN:VTIMEZONE
TZID:Europe/Berlin
X-LIC-LOCATION:Europe/Berlin
BEGIN:DAYLIGHT
DTSTART:20260329T030000
TZOFFSETFROM:+0100
TZOFFSETTO:+0200
TZNAME:CEST
END:DAYLIGHT
END:VTIMEZONE
END:VCALENDAR