BEGIN:VCALENDAR
VERSION:2.0
PRODID:-//wp-events-plugin.com//6.6.3//EN
TZID:Europe/Berlin
X-WR-TIMEZONE:Europe/Berlin
BEGIN:VEVENT
UID:580@einfach-diereha.de
DTSTART;TZID=Europe/Berlin:20260909T100000
DTEND;TZID=Europe/Berlin:20260909T150000
DTSTAMP:20260422T132623Z
URL:https://einfach-diereha.de/events/wahl-workshop-1-9-2026/
SUMMARY:Wahl-Workshop in Leichter Sprache
DESCRIPTION:Im Abgeordneten-Haus werden wichtige Entscheidungen für Berlin
  getroffen. In den Bezirks-Verordneten-Versammlungen wählen Sie\, wer die
  Politik in Ihrem Bezirk machen sollen. Im Workshop zur Wahl wird alles er
 klärt.
ATTACH;FMTTYPE=image/jpeg:https://einfach-diereha.de/wp-content/uploads/20
 26/04/berliner-landeszentrale-politische-bildung1.jpg
LOCATION:Berliner Landeszentrale für politische Bildung\, Hardenbergstr. 2
 2–24 \, Berlin\, 10623\, Deutschland
GEO:52.506658;13.330623
X-APPLE-STRUCTURED-LOCATION;VALUE=URI;X-ADDRESS=Hardenbergstr. 22–24 \, B
 erlin\, 10623\, Deutschland;X-APPLE-RADIUS=100;X-TITLE=Berliner Landeszent
 rale für politische Bildung:geo:52.506658,13.330623
END:VEVENT
BEGIN:VTIMEZONE
TZID:Europe/Berlin
X-LIC-LOCATION:Europe/Berlin
BEGIN:DAYLIGHT
DTSTART:20260329T030000
TZOFFSETFROM:+0100
TZOFFSETTO:+0200
TZNAME:CEST
END:DAYLIGHT
END:VTIMEZONE
END:VCALENDAR