BEGIN:VCALENDAR
VERSION:2.0
PRODID:-//wp-events-plugin.com//6.6.3//EN
TZID:Europe/Berlin
X-WR-TIMEZONE:Europe/Berlin
BEGIN:VEVENT
UID:536@einfach-diereha.de
DTSTART;TZID=Europe/Berlin:20260502T110000
DTEND;TZID=Europe/Berlin:20260502T130000
DTSTAMP:20260422T080925Z
URL:https://einfach-diereha.de/events/was-ist-erste-hilfe/
SUMMARY:Was ist Erste Hilfe? Workshop
DESCRIPTION:Unfälle passieren nicht jeden Tag. Aber was tun wir\, wenn es 
 einen Notfall gibt? Wie können wir helfen und selbst Unfälle vermeiden? 
ATTACH;FMTTYPE=image/jpeg:https://einfach-diereha.de/wp-content/uploads/20
 26/03/erste-hilfe-workshop.jpg
LOCATION:die reha e.v. – BEW Schleusinger Straße\, Schleusinger Straße 
 14\, 12687 Berlin\, Berlin\, 12687\, Deutschland
GEO:52.558266;13.565233
X-APPLE-STRUCTURED-LOCATION;VALUE=URI;X-ADDRESS=Schleusinger Straße 14\, 1
 2687 Berlin\, Berlin\, 12687\, Deutschland;X-APPLE-RADIUS=100;X-TITLE=die 
 reha e.v. – BEW Schleusinger Straße:geo:52.558266,13.565233
END:VEVENT
BEGIN:VTIMEZONE
TZID:Europe/Berlin
X-LIC-LOCATION:Europe/Berlin
BEGIN:DAYLIGHT
DTSTART:20260329T030000
TZOFFSETFROM:+0100
TZOFFSETTO:+0200
TZNAME:CEST
END:DAYLIGHT
END:VTIMEZONE
END:VCALENDAR